Workbook

Sheet CÂMARA
A1: PREFEITURA MUNICIPAL DE CAMPO BOM - RS
A2: LDO 2026
A3: 01 - CÂMARA MUNICIPAL
A5: PROGRAMA | B5: AÇÃO | C5: VALOR/ CUSTO | D5: ANO DE EXECUÇÃO | E5: RECURSO
A6: 0001 - EXECUÇÃO DA AÇÃO LEGISLATIVA
A7: 2.001 – CÂMARA MUNICIPAL DE VEREADORES Órgão Unidade: 0101 | B7: Despesas com pessoal, material de consumo, serviços de terceiros pessoa física e jurídica, despesas com alimentação, indenizações, consultorias, obrigações tributárias e contributivas, passagens, materiais de distribuição e premiações. Serviços de Microfilmagem dos documentos oficiais da Câmara, mediante a criação do arquivo digital, visando a digitalização de toda documentação da Câmara e disponibilização pública. | C7: 6200000 | D7: 2026 | E7: 501.0000
D8: 2027
D9: 2028
D10: 2029
A11: 2.003 – REFORMA E REEQUIPAMENTO DE GABINETES, SETORES E DEPARTAMENTOS Órgão Unidade: 0101 | B11: Aquisição de veículo para o Legislativo. Aquisição de Microcomputadores, Impressoras, Periféricos e Softwares de Base, Máquinas e Aparelhos Diversos e Equipamentos e Mobiliários em Geral para adequação de Setores, Gabinetes e Departamentos, a fim de proporcionar melhores condições nos atendimentos e serviços. REFORMA DO PLENÁRIO. | C11: 800000 | D11: 2026 | E11: 501.0000
C12: 200000 | D12: 2027
C13: 200000 | D13: 2028
C14: 200000 | D14: 2029
A15: 0031 - PREVIDÊNCIA SOCIAL A SERVIDOR DO MUNICÍPIO PELO REGIME GERAL
A16: 2.002 – CONTRIBUIÇÕES PATRONAIS Órgão Unidade: 0101 | B16: Despesas com obrigações patronais do INSS e FGTS. | C16: 650000 | D16: 2026 | E16: 501.0000
D17: 2027
D18: 2028
D19: 2029
A20: 0032 - PREVIDÊNCIA SOCIAL A SERVIDORES ATIVOS, INATIVOS E PENSIONISTAS VINCULADOS AO REGIME PRÓPRIO
A21: 2.002 – CONTRIBUIÇÕES PATRONAIS Órgão Unidade: 0101 | B21: Despesas com obrigações patronais do IPASEM. | C21: 150000 | D21: 2026 | E21: 501.0000
C22: 175000 | D22: 2027
C23: 200000 | D23: 2028
C24: 225000 | D24: 2029
B26: Total Ano 2026 | C26: =SUM(C7,C11,C16,C21) -> 7800000

Sheet GABINETE
A1: PREFEITURA MUNICIPAL DE CAMPO BOM - RS
A2: LDO 2026
A3: 02 – GABINETE DO PREFEITO
A5: PROGRAMA | B5: AÇÃO | C5: VALOR/ CUSTO | D5: ANO DE EXECUÇÃO | E5: RECURSO
A6: 0004 – SUPERVISÃO E COORDENAÇÃO ADMINISTRATIVA
A7: 2.328 – DIVISÃO DE COMUNICAÇÃO SOCIAL Órgão Unidade: 0206 | B7: Manutenção do setor de comunicação social com despesas de pessoal e encargos sociais, diárias, materiais de consumo, outras despesas correntes, equipamento e material permanente. Seção administrativa, criação, imprensa e conteúdo. | C7: 549850 | D7: 2026 | E7: 500.0000
C8: 561087.33 | D8: 2027
C9: 605616.58 | D9: 2028
C10: 653703.04 | D10: 2029
A11: 0010 – ADMINISTRAÇÃO GOVERNAMENTAL
A12: 2.474 – SECRETARIA GERAL DE GOVERNO Órgão Unidade: 0203 | B12: Manutenção da secretaria geral de governo com despesas com pessoal e encargos sociais e outras despesas correntes. Seção administrativa, conselho comunitário, conselho municipal de entidades representativas, seção de projetos e captação de recursos, planejamento estratégico e assuntos comunitários. | C12: 1145900 | D12: 2026 | E12: 500.0000
C13: 561087.33 | D13: 2027
C14: 605616.58 | D14: 2028
C15: 653703.04 | D15: 2029
A16: 2.504 – OUVIDORIA MUNICIPAL Órgão Unidade: 0208 | B16: Manutenção do setor de ouvidoria com despesas com pessoal e encargos sociais e outras despesas correntes. Seção administrativa, relacionamento com o cidadão, processamento e análise de informações. | C16: 107900 | D16: 2026 | E16: 500.0000
C17: 561087.33 | D17: 2027
C18: 605616.58 | D18: 2028
C19: 653703.04 | D19: 2029
A20: 2.006 – JUNTA DO SERVIÇO MILITAR Órgão Unidade: 0209 | B20: Manutenção da junta do serviço militar com despesas de pessoal e encargos sociais, diárias, materiais de consumo, outras despesas correntes, equipamento e material permanente. | C20: 83250 | D20: 2026 | E20: 500.0000
C21: 561087.33 | D21: 2027
C22: 605616.58 | D22: 2028
C23: 653703.04 | D23: 2029
A24: 0023 – DEFESA CONTRA SINISTROS
A25: 2.257 – COORDENADORIA MUNICIPAL DE PROTEÇÃO E DEFESA CIVIL Órgão Unidade: 0207 | B25: Ações preventivas, de socorro, assistenciais e reconstrutivas, destinadas a evitar e/ou minimizar os desastres, preservar a população e restabelecer a normalidade social. Manutenção do setor de defesa civil com despesas com pessoal e encargos sociais, Material de Consumo, Outras Despesas Correntes, Equipamentos e Material Permanente. Despesas com pessoal e encargos sociais e outras despesas correntes. | C25: 321850 | D25: 2026 | E25: 500.0000
C26: 561087.33 | D26: 2027
C27: 605616.58 | D27: 2028
C28: 653703.04 | D28: 2029
A29: 2.556 – FUNDO MUNICIPAL DE PROTEÇÃO E DEFESA CIVIL – FUMPDEC Órgão Unidade: 0210 | B29: Ações preventivas, de socorro, assistenciais e reconstrutivas, destinadas a evitar e/ou minimizar os desastres, preservar a população e restabelecer a normalidade social. Manutenção do setor de defesa civil com despesas com pessoal e encargos sociais, Material de Consumo, Outras Despesas Correntes, Equipamentos e Material Permanente. Despesas com pessoal e encargos sociais e outras despesas correntes.. | C29: 102000 | D29: 2026 | E29: 759.1159
C30: 561087.33 | D30: 2027
C31: 605616.58 | D31: 2028
C32: 653703.04 | D32: 2029
A33: 0031 - PREVIDÊNCIA SOCIAL A SERVIDOR DO MUNICÍPIO PELO REGIME GERAL
A34: 2.009 – GABINETE DO PREFEITO Órgão Unidade: 0201 | B34: Despesas com obrigações patronais do INSS e FGTS. | C34: 80000 | D34: 2026 | E34: 500.0000
C35: 561087.33 | D35: 2027
C36: 605616.58 | D36: 2028
C37: 653703.04 | D37: 2029
A38: 2.009 – GABINETE DO VICE PREFEITO Órgão Unidade: 0202 | B38: Despesas com obrigações patronais do INSS e FGTS. | C38: 10000 | D38: 2026 | E38: 500.0000
C39: 561087.33 | D39: 2027
C40: 605616.58 | D40: 2028
C41: 653703.04 | D41: 2029
...

Sheet ADMINISTRAÇÃO
A1: PREFEITURA MUNICIPAL DE CAMPO BOM - RS
A2: LDO 2026
A3: 04 – SECRETARIA MUNICIPAL DE ADMINISTRAÇÃO
A5: PROGRAMA | B5: AÇÃO | C5: VALOR/ CUSTO | D5: ANO DE EXECUÇÃO | E5: RECURSO
A6: 0004 – SUPERVISÃO E COORDENAÇÃO ADMINISTRATIVA
A7: 2.019 – SECRETARIA DE ADMINISTRAÇÃO Órgão Unidade: 0401 | B7: Manutenção da secretaria com despesas de pessoal, diárias, material de consumo e outras despesas correntes, obrigações tributárias e contributivas, indenizações e restituições, veículos, equipamentos e material permanente. Despesas com PASEP. Contratação de Pessoal através da realização de concursos públicos. Adequar a funcionalidade da administração. Readequação do Plano de Carreira e Salários. Regularização cartorária de Títulos de Propriedade dos Imóveis do município. Atendimento à Demandas Judiciais. Junta administrativa, recurso das sanções ao servidor público, comissão permanente de licitações e registro cadastral, seção administrativa.. | C7: 7265750 | D7: 2026 | E7: 500.0000
A11: 2.384 – AQUISIÇÃO DE BENS MÓVEIS E IMÓVEIS – LEILÃO Órgão Unidade: 0401 | B11: Aquisição de bens móveis com recurso da venda de sucatas em leilão, e venda de terrenos em Leilão.. | C11: 300 | D11: 2026 | E11: 755.0000
A15: 2.010 – DIVISÃO DE CAPACITAÇÃO, MÉRITOS E AVALIAÇÃO DO SERVIDOR Órgão Unidade: 0403 | B15: Manutenção da COMPAQ com despesas de pessoal e encargos sociais e outras despesas correntes. Seção administrativa, comissão permanente de ética e conduta, mérito e avaliação. | C15: 390700 | D15: 2026 | E15: 500.0000
A19: 2.033 – DIVISÃO DE LICITAÇÕES E CONTRATOS Órgão Unidade: 0404 | B19: Manutenção do setor de licitações e contratos com despesas de pessoal, obrigações patronais, material de consumo, outras despesas correntes, equipamentos e material permanente. Seção de custos e avaliação de preços, licitações e contratos. | C19: 1158000 | D19: 2026 | E19: 500.0000
A23: 2.505 – DIVISÃO DE APOIO E INFRAESTRUTURA Órgão Unidade: 0406 | B23: Manutenção dos serviços gerais com despesas de pessoal, material de consumo, outras despesas correntes, equipamentos e material permanente. Seção de custos e avaliação de preços, licitações e contratos. Divisão de apoio e infraestrutura, seção de serviços gerais, telefonia, motoristas, zeladoria e vigilância. | C23: 2225400 | D23: 2026 | E23: 500.0000
A27: 2.020 – DIVISÃO DE CONTROLE DOCUMENTAL, ALMOXARIFADO E PATRIMÔNIO Órgão Unidade: 0407 | B27: Manutenção do setor com despesas de pessoal, material de consumo, outras despesas correntes, equipamentos e material permanente. Seção de controle e publicação dos atos oficiais, seção patrimônio, almoxarifado, arquivo e microfilmagem. | C27: 389100 | D27: 2026 | E27: 500.0000
A31: 0005 – DOCUMENTAÇÃO E BIBLIOGRAFIA
A32: 2.022 – ARQUIVO E MICROFILMAGEM Órgão Unidade: 0407 | B32: Manutenção dos serviços de microfilmagem. Melhorar as condições de arquivamento de Documentos Oficiais do Município, mediante a criação do Arquivo Digital. Digitalização de documentos. Sistema de Gestão de Documentos e Processos. Despesas com material de consumo, outras despesas correntes, equipamentos e material permanente. Buscar RECURSO da União, Estado, Operação de Crédito ou Financiamento.. | C32: 160300 | D32: 2026 | E32: 500.0000
A36: 0006 – DIVULGAÇÃO OFICIAL E INSTITUCIONAL
A37: 2.023 – CONTROLE E PUBLICAÇÃO DOS ATOS OFICIAIS Órgão Unidade: 0407 | B37: Despesas com material de consumo, outras despesas correntes. Serviços de publicidade legal, institucional e de utilidade pública. | C37: 100100 | D37: 2026 | E37: 500.0000
A41: 0007 – FORMAÇÃO DO RECURSOS HUMANOS
A42: 2.029 – DIVISÃO DE RECURSOS HUMANOS Órgão Unidade: 0402 | B42: Manutenção do departamento pessoal com despesas de pessoal, material de consumo, outras despesas correntes, equipamentos e material permanente. Promover a capacitação e gerenciamento dos Recursos Humanos da Administração Municipal. Estruturar o adequado atendimento do Servidor Público Municipal, Abrangendo Engenharia de Segurança, Medicina do Trabalho, Perícias Médicas e Serviço Social para a Administração Municipal. Seção de recrutamento, seleção e contratação, processamento de vencimentos e vantagens, desligamentos, afastamentos e aposentadorias.. | C42: 1044800 | D42: 2026 | E42: 500.0000
A46: 2.030 – COMISSÃO INTERNA DE PREVENÇÃO DE ACIDENTES – CIPA Órgão Unidade: 0402 | B46: Implantação e Manutenção da CIPA - Comissão Interna de Prevenção de Acidentes. Prevenção de acidentes e doenças decorrentes do trabalho, de modo a tornar compatível permanentemente o trabalho com a preservação da vida e a promoção da saúde do trabalhador. . | C46: 15100 | D46: 2026 | E46: 500.0000
A50: 0009 – EDIFICAÇÕES PÚBLICAS
A51: 2.025 – MANUTENÇÃO PRÉDIOS PÚBLICOS Órgão Unidade: 0401 | B51: Criar condições plenas de uso do Centro Administrativo e Prédios Públicos. Despesas com material de consumo, outras despesas correntes, obras, equipamentos e material permanente. *** Buscar RECURSO da União, Estado, Operação de Crédito ou Financiamento. | C51: 105300 | D51: 2026 | E51: 753.0000 500.0000
A55: 1.208 – IMPLANT. SEC. OBRAS, ALMOX. CENTRAL, EDUCAÇÃO E SAÚDE Órgão Unidade: 0401 | B55: Implantação da secretaria de obras, almoxarifado central, educação e saúde. | C55: 550000 | D55: 2026 | E55: 500.0000
A59: 0017 – INFORMÁTICA
A60: 2.031 – DIVISÃO DE INFORMÁTICA Órgão Unidade: 0405 | B60: Manutenção do setor de informática com despesas com pessoal, obrigações patronais, material de consumo, outras despesas correntes, equipamentos e material permanente. Divisão de Processamentos de dados, seção de desenvolvimentos e tecnologia e infraestrutura e manutenção. | C60: 781500 | D60: 2026 | E60: 500.0000
A64: 0031 - PREVIDÊNCIA SOCIAL A SERVIDOR DO MUNICÍPIO PELO REGIME GERAL
A65: 2.019 – SECRETARIA DE ADMINISTRAÇÃO Órgão Unidade: 0401 | B65: Despesas com obrigações patronais do INSS e FGTS. | C65: 60000 | D65: 2026 | E65: 500.0000
A69: 2.029 – DIVISÃO DE RECURSOS HUMANOS Órgão Unidade: 0402 | B69: Despesas com obrigações patronais do INSS e FGTS. | C69: 25000 | D69: 2026 | E69: 500.0000
A73: 2.010 – DIVISÃO DE CAPACITAÇÃO, MÉRITOS E AVALIAÇÃO DO SERVIDOR Órgão Unidade: 0403 | B73: Despesas com obrigações patronais do INSS e FGTS. | C73: 1000 | D73: 2026 | E73: 500.0000
A77: 2.033 – DIVISÃO DE LICITAÇÕES E CONTRATOS Órgão Unidade: 0404 | B77: Despesas com obrigações patronais do INSS e FGTS. | C77: 40000 | D77: 2026 | E77: 500.0000
A81: 2.031 – DIVISÃO DE INFORMÁTICA Órgão Unidade: 0405 | B81: Despesas com obrigações patronais do INSS e FGTS. | C81: 7000 | D81: 2026 | E81: 500.0000
A85: 2.505 – DIVISÃO DE APOIO E INFRAESTRUTURA Órgão Unidade: 0406 | B85: Despesas com obrigações patronais do INSS e FGTS. | C85: 25000 | D85: 2026 | E85: 500.0000
A89: 2.020 – DIVISÃO DE CONTROLE DOCUMENTAL, ALMOXARIFADO E PATRIMÔNIO Órgão Unidade: 0407 | B89: Despesas com obrigações patronais do INSS e FGTS. | C89: 25000 | D89: 2026 | E89: 500.0000
A93: 0032 - PREVIDÊNCIA SOCIAL A SERVIDORES ATIVOS, INATIVOS E PENSIONISTAS VINCULADOS AO REGIME PRÓPRIO
A94: 2.019 – SECRETARIA DE ADMINISTRAÇÃO Órgão Unidade: 0401 | B94: Despesas com obrigações patronais do IPASEM. | C94: 205000 | D94: 2026 | E94: 500.0000
A98: 2.029 – DIVISÃO DE RECURSOS HUMANOS Órgão Unidade: 0402 | B98: Despesas com obrigações patronais do IPASEM. | C98: 140000 | D98: 2026 | E98: 500.0000
A102: 2.010 – DIVISÃO DE CAPACITAÇÃO, MÉRITOS E AVALIAÇÃO DO SERVIDOR Órgão Unidade: 0403 | B102: Despesas com obrigações patronais do IPASEM. | C102: 60000 | D102: 2026 | E102: 500.0000
A106: 2.033 – DIVISÃO DE LICITAÇÕES E CONTRATOS Órgão Unidade: 0404 | B106: Despesas com obrigações patronais do IPASEM. | C106: 150000 | D106: 2026 | E106: 500.0000
A110: 2.031 – DIVISÃO DE INFORMÁTICA Órgão Unidade: 0405 | B110: Despesas com obrigações patronais do IPASEM. | C110: 150000 | D110: 2026 | E110: 500.0000
A114: 2.505 – DIVISÃO DE APOIO E INFRAESTRUTURA Órgão Unidade: 0406 | B114: Despesas com obrigações patronais do IPASEM. | C114: 60000 | D114: 2026 | E114: 500.0000
A118: 2.020 – DIVISÃO DE CONTROLE DOCUMENTAL, ALMOXARIFADO E PATRIMÔNIO Órgão Unidade: 0407 | B118: Despesas com obrigações patronais do IPASEM. | C118: 20000 | D118: 2026 | E118: 500.0000
A122: 0105 – SERVIÇO DA DÍVIDA INTERNA
...

Sheet FINANÇAS
A1: PREFEITURA MUNICIPAL DE CAMPO BOM - RS
A2: LDO 2026
A3: 05 – SECRETARIA MUNICIPAL DE FINANÇAS
A5: PROGRAMA | B5: AÇÃO | C5: VALOR/ CUSTO | D5: ANO DE EXECUÇÃO | E5: RECURSO
A6: 0004 – SUPERVISÃO E COORDENAÇÃO ADMINISTRATIVA
A7: 2.035 – SECRETARIA DE FINANÇAS Órgão Unidade: 0501 | B7: Manutenção da secretaria com despesas com pessoal e obrigações patronais, diárias, material de consumo e outras despesas correntes, indenizações e restituições, equipamentos e material permanente.. | C7: 769000 | D7: 2026 | E7: 500.0000
A11: 0011 – ORGANIZAÇÃO E MODERNIZAÇÃO ADMINISTRATIVA
A12: 1.235 – IMPLANTAÇÃO DO SIAFIC Órgão Unidade: 0502 | B12: Despesa com material e serviços. O Siafic é o Sistema Único e Integrado de Execução Orçamentária, Administração Financeira e Controle, um software que deve ser utilizado pelos Poderes Executivo, Legislativo e Judiciário e órgãos de cada ente, com base de dados compartilhada e integrado aos sistemas estruturantes (gestão de pessoas, patrimônio, controle etc). | C12: 10500 | D12: 2026 | E12: 500.0000
A16: 0012 – ADMINISTRAÇÃO TRIBUTÁRIA
A17: 2.042 – DIVISÃO DE FISCALIZAÇÃO Órgão Unidade: 0504 | B17: Manutenção do setor de arrecadação e fiscalização com despesas com pessoal e obrigações patronais, diárias, material de consumo e outras despesas correntes, equipamentos e material permanente. Premiação da campanha "IPTU da Sorte". Incrementar programas de qualificação profissional destinados a jovens iniciantes volta dos ao mercado de trabalho. Sistema de gestão da nota fiscal eletrônica, armazenamento dos documentos gerados, ferramentas de apoio ao controle e fiscalização do ISS., multas e acompanhamento de processos de fiscalização. Disponibilização de sistema de georreferenciamento de imagens na Web, imagem de satélite, levantamento de campo. Revisão da incidência para fins de arrecadação de imposto predial e territorial urbano e da legislação tributária. Seção de fiscalização de tributos, emissão de licenças e Junta administrativa de defesa de autuações tributárias e de postura. | C17: 4180700 | D17: 2026 | E17: 500.0000
A21: 2.309 – PROGRAMA DE EDUCAÇÃO FISCAL Órgão Unidade: 0504 | B21: Sensibilizar o cidadão para a função socioeconômica dos tributos, incentivar o acompanhamento da aplicação dos recursos públicos. | C21: 500 | D21: 2026 | E21: 500.0000
A25: 2.310 – POLÍTICA FISCAL E TRIBUTÁRIA Órgão Unidade: 0504 | B25: Objetivo de diminuir a sonegação fiscal do município, com incremento do receita. Despesas de material de consumo e outras despesas correntes, equipamentos e material permanente. | C25: 500 | D25: 2026 | E25: 500.0000
A29: 2.472 – CAMPANHA NOTA FISCAL GAÚCHA Órgão Unidade: 0504 | B29: Despesa com material de consumo e outras despesas correntes. Premiação da Campanha Nota Fiscal Gaúcha, convênio firmado com o Estado pela Lei Municipal 4.776 de 18/05/2018. | C29: 100300 | D29: 2026 | E29: 500.0000
A33: 2.507 – DIVISÃO DE CONTROLE DA DÍVIDA ATIVA Órgão Unidade: 0505 | B33: Manutenção do setor de dívida ativa com despesas com pessoal, material de consumo, outras despesas correntes, equipamentos e material permanente. Seção de cobrança administrativa e judicial. | C33: 511100 | D33: 2026 | E33: 500.0000
A37: 2.508 – DIVISÃO DO CADASTRO IMOBILIÁRIO E PROTOCOLO Órgão Unidade: 0506 | B37: Manutenção do setor de cadastro imobiliário com despesas com pessoal, material de consumo, outras despesas correntes, equipamentos e material permanente. Seção de protocolo, análise de projetos e cadastro de certidões. | C37: 491500 | D37: 2026 | E37: 500.0000
A41: 1.178 – REFORMA DO PROTOCOLO - CENTRO ADMINISTRATIVO Órgão Unidade: 0506 | B41: Readequação e reforma do saguão do protocolo. | C41: 100 | D41: 2026 | E41: 500.0000
A45: 0015 – FISCALIZAÇÃO DA EXECUÇÃO ORÇAMENTÁRIA E DA GESTÃO FINANCEIRA DO MUNICÍPIO
A46: 2.038 – DIVISÃO DE CONTABILIDADE E TESOURARIA Órgão Unidade: 0502 | B46: Manutenção do setor de contabilidade e tesouraria com despesas de pessoal e obrigações patronais, diárias, material de consumo e outras despesas correntes, indenizações e restituições, veículos, equipamentos e material permanente. Seção de tesouraria e contabilidade. | C46: 1875700 | D46: 2026 | E46: 500.0000
A50: 2.506 – DIVISÃO DE EMPENHOS E PRESTAÇÃO DE CONTAS Órgão Unidade: 0503 | B50: Manutenção do setor de empenhos e prestação de contas com despesas de pessoal e obrigações patronais, diárias, material de consumo e outras despesas correntes, indenizações e restituições, veículos, equipamentos e material permanente. Seção de empenhos e prestação de contas.. | C50: 410900 | D50: 2026 | E50: 500.0000
A54: 0023 – DEFESA CONTRA SINISTROS
A55: 2.676 – CORPO DE BOMBEIROS DE CAMPO BOM Órgão Unidade: 0501 | B55: Referente despesas com contribuições, material de consumo, outras despesas correntes e aquisição de equipamentos e material permanente. Auxílio ao Corpo de Bombeiros dando maiores condições de combate aos incêndios. | C55: 95300 | D55: 2026 | E55: 500.0000
A59: 2.043 – FUNDO MUNICIPAL DE REEQUIPAMENTO DOS BOMBEIROS – FUNREBOM Órgão Unidade: 0507 | B59: Referente despesas com contribuições, material de consumo, outras despesas correntes e aquisição de equipamentos e material permanente. Auxílio ao Corpo de Bombeiros dando maiores condições de combate aos incêndios.. | C59: 15200 | D59: 2026 | E59: 759.1088
A63: 0031 - PREVIDÊNCIA SOCIAL A SERVIDOR DO MUNICÍPIO PELO REGIME GERAL
A64: 2.035 – SECRETARIA DE DE FINANÇAS Órgão Unidade: 0501 | B64: Despesas com obrigações patronais do INSS e FGTS. | C64: 40000 | D64: 2026 | E64: 500.0000
A68: 2.038 – DIVISÃO DE CONTABILIDADE E TESOURARIA Órgão Unidade: 0502 | B68: Despesas com obrigações patronais do INSS e FGTS. | C68: 35000 | D68: 2026 | E68: 500.0000
A72: 2.506 – DIVISÃO DE EMPENHOS E PRESTAÇÃO DE CONTAS Órgão Unidade: 0503 | B72: Despesas com obrigações patronais do INSS e FGTS. | C72: 20000 | D72: 2026 | E72: 500.0000
A76: 2.042 – DIVISÃO DE FISCALIZAÇÃO Órgão Unidade: 0504 | B76: Despesas com obrigações patronais do INSS e FGTS. | C76: 15000 | D76: 2026 | E76: 500.0000
A80: 2.507 – DIVISÃO DE CONTROLE DA DÍVIDA ATIVA Órgão Unidade: 0505 | B80: Despesas com obrigações patronais do INSS e FGTS. | C80: 20000 | D80: 2026 | E80: 500.0000
A84: 2.508 – DIVISÃO DO CADASTRO IMOBILIÁRIO E PROTOCOLO Órgão Unidade: 0506 | B84: Despesas com obrigações patronais do INSS e FGTS. | C84: 8000 | D84: 2026 | E84: 500.0000
A88: 0032 - PREVIDÊNCIA SOCIAL A SERVIDORES ATIVOS, INATIVOS E PENSIONISTAS VINCULADOS AO REGIME PRÓPRIO
A89: 2.035 – SECRETARIA DE DE FINANÇAS Órgão Unidade: 0501 | B89: Despesas com obrigações patronais do IPASEM. | C89: 40000 | D89: 2026 | E89: 500.0000
A93: 2.038 – DIVISÃO DE CONTABILIDADE E TESOURARIA Órgão Unidade: 0502 | B93: Despesas com obrigações patronais do IPASEM. | C93: 190000 | D93: 2026 | E93: 500.0000
A97: 2.506 – DIVISÃO DE EMPENHOS E PRESTAÇÃO DE CONTAS Órgão Unidade: 0503 | B97: Despesas com obrigações patronais do IPASEM. | C97: 60000 | D97: 2026 | E97: 500.0000
A101: 2.042 – DIVISÃO DE FISCALIZAÇÃO Órgão Unidade: 0504 | B101: Despesas com obrigações patronais do IPASEM. | C101: 280000 | D101: 2026 | E101: 500.0000
A105: 2.507 – DIVISÃO DE CONTROLE DA DÍVIDA ATIVA Órgão Unidade: 0505 | B105: Despesas com obrigações patronais do IPASEM. | C105: 85000 | D105: 2026 | E105: 500.0000
A109: 2.508 – DIVISÃO DO CADASTRO IMOBILIÁRIO E PROTOCOLO Órgão Unidade: 0506 | B109: Despesas com obrigações patronais do IPASEM. | C109: 55000 | D109: 2026 | E109: 500.0000
A113: 0105 – SERVIÇO DA DÍVIDA INTERNA
A114: 2.040 – DÍVIDA INTERNA Órgão Unidade: 0501 | B114: Atendimento as despesas com juros e amortização da dívida fundada do município. | C114: 2250000 | D114: 2026 | E114: 500.0000
B119: Total Ano 2026 | C119: =SUM(C7,C17,C21,C25,C29,C33,C37,C41,C46,C50,C55,C59,C64,C68,C72,C76,C80,C84,C89,C93,C97,C101,C105,C109,C114,C12) -> 11559300

Sheet EDUCAÇÃO
A1: PREFEITURA MUNICIPAL DE CAMPO BOM - RS
A2: LDO 2026
A3: 06 – SECRETARIA MUNICIPAL DE EDUCAÇÃO E CULTURA
A5: PROGRAMA | B5: AÇÃO | C5: VALOR/ CUSTO | D5: ANO DE EXECUÇÃO | E5: RECURSO
A6: 0004 – SUPERVISÃO E COORDENAÇÃO ADMINISTRATIVA
A7: 2.046 – SECRETARIA DE EDUCAÇÃO E CULTURA Órgão Unidade: 0601 | B7: Manutenção da secretaria com despesas de Pessoal, Diárias, Material de Consumo, Outras Despesas Correntes, Equipamento e Material Permanente. Atualização do Plano Municipal de Educação: Traçar política educacional do município, garantindo a existência e a atualização do plano de carreira do magistério público municipal. | C7: 5045500 | D7: 2026 | E7: 500.1001
A11: 1.178 – REFORMA DO PROTOCOLO - CENTRO ADMINISTRATIVO Órgão Unidade: 0601 | B11: Reforma do saguão do protocolo. | C11: 100 | D11: 2026 | E11: 500.0000
A15: 0027 – SERVIÇO DE PROTEÇÃO À CRIANÇA E AO ADOLESCENTE
A16: 2.625 – CONSELHO TUTELAR Órgão Unidade: 0607 | B16: Despesas de Pessoal, Obrigações Patronais, Diárias, Material de Consumo, Outras Despesas Correntes, Atendimento as Demandas Judiciais, Aquisição de Equipamento e Material Permanente. Propiciar condições de Segurança e de espaço apropriado para que o conselho Tutelar possa executar suas ações de trabalho em serviços de proteção à crianças e adolescentes. | C16: 459430 | D16: 2026 | E16: 500.0000
A20: 2.624 – FUNDO MUNICIPAL DOS DIREITOS DA CRIANÇA E DO ADOLESCENTE Órgão Unidade: 0607 | B20: Despesas de Diárias, Material de Consumo, Outras Despesas Correntes, Atendimento as Demandas Judiciais, Aquisição de Equipamento e Material Permanente. | C20: 400000 | D20: 2026 | E20: 759.1045
A24: 0028 – ASSISTÊNCIA AO EDUCANDO
A25: 2.065 – PROGRAMA ACOLHER Órgão Unidade: 0603 | B25: Manutenção e ampliação do programa acolher. Despesas de Diárias, Material de Consumo, Outras Despesas Correntes, Aquisição de Equipamento e Material Permanente. Propiciar atividades diversas no contraturno escolar para alunos da rede municipal. Ampliar as atividades do Programa acolher em contraturno a serem realizadas no Centro Esportivo Educacional.. | C25: 365250 | D25: 2026 | E25: 500.1001
A29: 2.286 – PASSE LIVRE ESTUDANTIL Órgão Unidade: 0603 | B29: Utilização do transporte coletivo municipal urbano pelos Estudantes de Campo Bom em educandário público ou privado, Municipal ou Estadual. | C29: 400000 | D29: 2026 | E29: 500.1001
A33: 2.369 – PROGRAMA ACOLHER – FUNDEB 70% Órgão Unidade: 0604 | B33: Manutenção e ampliação do programa acolher. Despesas de Pessoal, Obrigações Patronais, Diárias. Propiciar atividades diversas no contraturno escolar para alunos da rede municipal. Ampliar as atividades do Programa acolher em contraturno a serem realizadas no Centro Esportivo Educacional. | C33: 195200 | D33: 2026 | E33: 540.1070
A37: 2.609 – PROGRAMA ACOLHER – FUNDEB 30% Órgão Unidade: 0604 | B37: Manutenção e ampliação do programa acolher. Propiciar atividades diversas no contraturno escolar para alunos da rede municipal. Ampliar as atividades do Programa acolher em contraturno a serem realizadas no Centro Esportivo Educacional.. Despesas com pessoal, serviços, material consumo, obras e instalações, equipamentos e material permanente. | C37: 770 | D37: 2026 | E37: 540.0000
A41: 2.287 – PASSE LIVRE ESTUDANTIL - FUNDAMENTAL Órgão Unidade: 0606 | B41: Utilização do transporte coletivo municipal urbano pelos Estudantes de Campo Bom em educandário público ou privado, Municipal ou Estadual. | C41: 300000 | D41: 2026 | E41: 500.0000 550.1068
A45: 2.108 – PROGRAMA ACOLHER Órgão Unidade: 0606 | B45: Manutenção e ampliação do programa acolher. Despesas de Diárias, Material de Consumo, Outras Despesas Correntes, Aquisição de Equipamento e Material Permanente. Propiciar atividades diversas no contraturno escolar para alunos da rede municipal. Ampliar as atividades do Programa acolher em contraturno a serem realizadas no Centro Esportivo Educacional. | C45: 45050 | D45: 2026 | E45: 550.1068
A49: 0031 - PREVIDÊNCIA SOCIAL A SERVIDOR DO MUNICÍPIO PELO REGIME GERAL
A50: 2.046 – SECRETARIA DE EDUCAÇÃO E CULTURA Órgão Unidade: 0601 | B50: Despesas com obrigações patronais do INSS e FGTS. | C50: 210000 | D50: 2026 | E50: 500.1001
A54: 2.055 – EDUCAÇÃO INFANTIL – CRECHE Órgão Unidade: 0602 | B54: Despesas com obrigações patronais do INSS e FGTS. | C54: 20000 | D54: 2026 | E54: 500.1001
A58: 2.059 – EDUCAÇÃO INFANTIL – PRÉ ESCOLA Órgão Unidade: 0602 | B58: Despesas com obrigações patronais do INSS e FGTS. | C58: 50000 | D58: 2026 | E58: 500.1001
A62: 2.056 – EDUCAÇÃO ESPECIAL NA PERSPECTIVA DA EDUCAÇÃO INCLUSIVA – CRECHE Órgão Unidade: 0602 | B62: Despesas com obrigações patronais do INSS e FGTS. | C62: 50000 | D62: 2026 | E62: 500.1001
A66: 2.077 – EDUCAÇÃO ESPECIAL NA PERSPECTIVA DA EDUCAÇÃO INCLUSIVA – PRÉ ESCOLA Órgão Unidade: 0602 | B66: Despesas com obrigações patronais do INSS e FGTS. | C66: 50000 | D66: 2026 | E66: 500.1001
A70: 2.072 – EDUCAÇÃO FUNDAMENTAL Órgão Unidade: 0603 | B70: Despesas com obrigações patronais do INSS e FGTS. | C70: 150000 | D70: 2026 | E70: 500.1001
A74: 2.233 – EDUCAÇÃO ESPECIAL NA PERSPECTIVA DA EDUCAÇÃO INCLUSIVA – FUNDAMENTAL Órgão Unidade: 0603 | B74: Despesas com obrigações patronais do INSS e FGTS. | C74: 20000 | D74: 2026 | E74: 500.1001
A78: 2.070 – EDUCAÇÃO DE JOVENS E ADULTOS Órgão Unidade: 0603 | B78: Despesas com obrigações patronais do INSS e FGTS. | C78: 15000 | D78: 2026 | E78: 500.1001
A82: 2.090 – EDUCAÇÃO CRECHE – FUNDEB 70% Órgão Unidade: 0604 | B82: Despesas com obrigações patronais do INSS e FGTS. | C82: 420000 | D82: 2026 | E82: 540.1070
A86: 2.611 – EDUCAÇÃO CRECHE – FUNDEB 30% Órgão Unidade: 0604 | B86: Despesas com obrigações patronais do INSS e FGTS. | C86: 60000 | D86: 2026 | E86: 540.0000
A90: 2.509 – EDUCAÇÃO ESPECIAL CRECHE – FUNDEB 70% Órgão Unidade: 0604 | B90: Despesas com obrigações patronais do INSS e FGTS. | C90: 5000 | D90: 2026 | E90: 540.1070
A94: 2.616 – EDUCAÇÃO ESPECIAL CRECHE – FUNDEB 30% Órgão Unidade: 0604 | B94: Despesas com obrigações patronais do INSS e FGTS. | C94: 100 | D94: 2026 | E94: 540.0000
... A178: 2.625 – CONSELHO TUTELAR Órgão Unidade: 0607 | B178: Despesas com obrigações patronais do INSS e FGTS. | C178: 55000 | D178: 2026 | E178: 500.0000
A182: 0032 - PREVIDÊNCIA SOCIAL A SERVIDORES ATIVOS, INATIVOS E PENSIONISTAS VINCULADOS AO REGIME PRÓPRIO
A183: 2.046 – SECRETARIA DE EDUCAÇÃO E CULTURA Órgão Unidade: 0601 | B183: Despesas com obrigações patronais do IPASEM. | C183: 240000 | D183: 2026 | E183: 500.1001
A187: 2.055 – EDUCAÇÃO INFANTIL – CRECHE Órgão Unidade: 0602 | B187: Despesas com obrigações patronais do IPASEM. | C187: 500000 | D187: 2026 | E187: 500.1001
A191: 2.059 – EDUCAÇÃO INFANTIL – PRÉ ESCOLA Órgão Unidade: 0602 | B191: Despesas com obrigações patronais do IPASEM. | C191: 700000 | D191: 2026 | E191: 500.1001
A195: 2.056 – EDUCAÇÃO ESPECIAL NA PERSPECTIVA DA EDUCAÇÃO INCLUSIVA – CRECHE Órgão Unidade: 0602 | B195: Despesas com obrigações patronais do IPASEM. | C195: 50000 | D195: 2026 | E195: 500.1001
A199: 2.077 – EDUCAÇÃO ESPECIAL NA PERSPECTIVA DA EDUCAÇÃO INCLUSIVA – PRÉ ESCOLA Órgão Unidade: 0602 | B199: Despesas com obrigações patronais do IPASEM. | C199: 50000 | D199: 2026 | E199: 500.1001
A203: 2.072 – EDUCAÇÃO FUNDAMENTAL Órgão Unidade: 0603 | B203: Despesas com obrigações patronais do IPASEM. | C203: 2100000 | D203: 2026 | E203: 500.1001
A207: 2.233 – EDUCAÇÃO ESPECIAL NA PERSPECTIVA DA EDUCAÇÃO INCLUSIVA – FUNDAMENTAL Órgão Unidade: 0603 | B207: Despesas com obrigações patronais do IPASEM. | C207: 25000 | D207: 2026 | E207: 500.1001
A211: 2.070 – EDUCAÇÃO DE JOVENS E ADULTOS Órgão Unidade: 0603 | B211: Despesas com obrigações patronais do IPASEM. | C211: 25000 | D211: 2026 | E211: 500.1001
...

Sheet ASSISTÊNCIA
A1: PREFEITURA MUNICIPAL DE CAMPO BOM - RS
A2: LDO 2026
A3: 07 – SECRETARIA MUNICIPAL DE DESENVOLVIMENTO SOCIAL E HABITAÇÃO
A5: PROGRAMA | B5: AÇÃO | C5: VALOR/ CUSTO | D5: ANO DE EXECUÇÃO | E5: RECURSO
A6: 0004 – SUPERVISÃO E COORDENAÇÃO ADMINISTRATIVA
A7: 2.127 – SECRETARIA DE DESENVOLVIMENTO SOCIAL E ASSISTÊNCIA Órgão Unidade: 0701 | B7: Despesa com Pessoal, Obrigações Patronais, Diárias, Outras Despesas Correntes, Equipamentos e Material Permanente. Renovação da frota de veículos para o transporte. Seção administrativa, conselho municipal de assistência social, conselho municipal de habitação, conselho municipal do FHIS, conselho municipal do idoso, conselho municipal dos direitos das pessoas com deficiência e conselho municipal dos direitos da mulher. Promover a qualificação da gestão da Assistência Social, através de processos continuados de capacitação e formação, requerendo habilidades e atitudes frente a provisão dos serviços e benefícios socioassistenciais, mais qualificada e comprometida com o atendimento ao cidadão. | C7: 2345520 | D7: 2026 | E7: 500.0000
A11: 0025 – SERVIÇOS DE ASSISTÊNCIA AO IDOSO
A12: 1.186 – EPI – UNIÃO – DEP. LUCAS REDECKER – PROGR. 903223 Órgão Unidade: 0707 | B12: Aquisição de equipamentos para o Centro Comunitário da Pessoa Idosa, local destinado para atividades diversas de lazer, recreação e laboral dos idosos. | C12: 10000 | D12: 2026 | E12: 706.1188
A16: 2.157 – FUNDO MUNICIPAL DO IDOSO – FMICB Órgão Unidade: 0707 | B16: Manutenção do Fundo Municipal do Idoso de Campo Bom - FMICB. Assegurar o pleno exercício dos direitos individuais e sociais do Idoso. Despesas com material e outros despesas correntes. Cursos de Capacitação para os conselheiros. | C16: 185000 | D16: 2026 | E16: 759.1042
A20: 2.331 – ASSISTÊNCIA A PESSOA IDOSA Órgão Unidade: 0707 | B20: Conjunto de ações dirigidas ao idoso visando a sua integração à família a à comunidade. Políticas públicas de assistência, melhoria da qualidade de vida dos idosos e implementação de espaços públicos de acolhimento a essa população. Subvenção transporte coletivo de Campo Bom Despesa com Material de Consumo, Outras Despesas Correntes, Contribuições, Equipamentos e Material Permanente. Conjunto de ações dirigidas ao Idoso visando a sua integração à família e à comunidade. Manutenção do Centro Comunitário para Idosos, Local destinado para atividades diversas de lazer, recreação e laboral dos idosos. Contratos de acolhimento de instituições de longa permanência para idosos centralizados nessa ação. | C20: 1105800 | D20: 2026 | E20: 500.0000
A24: 1.126 – IMPLANTAÇÃO CENTRO COMUNITÁRIO DA PESSOA IDOSA Órgão Unidade: 0707 | B24: Despesa com material de consumo e outras despesas correntes, obras, equipamentos e material permanente. Equipar o Centro Comunitário da Pessoa Idosa, local destinado para atividades diversas de lazer, recreação e laboral dos idosos. CONSTRUÇÃO DE EMPREENDIMENTO PARA ATENDIMENTO AOS IDOSOS. *** Buscar RECURSO da União, Estado, Operação de Crédito ou Financiamento. | C24: 2000 | D24: 2026 | E24: 500.0000
A28: 1.166 – CENTRO CONVIVÊNCIA DO IDOSO – CONVÊNIO 37930012 – LASIER MARTINS Órgão Unidade: 0707 | B28: Despesa com material de consumo e outras despesas correntes, obras, equipamentos e material permanente. Equipar o Centro Comunitário da Pessoa Idosa, local destinado para atividades diversas de lazer, recreação e laboral dos idosos. *** Buscar RECURSO da União, Estado, Operação de Crédito ou Financiamento. | C28: 1800 | D28: 2026 | E28: 665.1143
A32: 2.708 – MANUTENÇÃO DO CENTRO COMUNITÁRIO DA PESSOA IDOSA Órgão Unidade: 0707 | B32: Despesa com material de consumo e outras despesas correntes, obras, equipamentos e material permanente. Equipar o Centro Comunitário da Pessoa Idosa, local destinado para atividades diversas de lazer, recreação e laboral dos idosos. Recuperação do Centro de Recreação do Idoso localizado no Parque do Trabalhador. . | C32: 295300 | D32: 2026 | E32: 500.0000
A36: 0026 – SERVIÇOS DE ASSISTÊNCIA AO DEFICIENTE
A37: 2.577 – FUNDO MUNICIPAL DOS DIREITOS DA PESSOA COM DEFICIÊNCIA Órgão Unidade: 0708 | B37: Criação do Fundo Municipal dos Direitos da Pessoa com deficiência. Promover a criação do Conselho de Direitos da Pessoa com deficiência, espaço democrático, que visa ao acompanhamento, monitoramento, avaliação e a fiscalização das políticas destinadas à pessoa com deficiência. Assegurar o pleno exercício dos direitos individuais e sociais das pessoas com deficiência. Despesas com material e outros despesas correntes. Cursos de Capacitação para os conselheiros. | C37: 70 | D37: 2026 | E37: 759.1134
A41: 2.130 – ASSISTÊNCIA À PESSOA COM DEFICIÊNCIA Órgão Unidade: 0708 | B41: Conjunto de ações de proteção social a pessoas portadoras de deficiência, objetivando o bem-estar físico, social e ocupacional. Manutenção dos Serviços PCD. Repasse de Recursos recebidos da União para a APAE, referente ao Programa PSE - Proteção Social Especial, através do Fundo Especial, através do Fundo Municipal de Assistência Social. Construção do centro de convivência para PCDS. Subvenção transporte coletivo Campo Bom. Despesas com material de cconsumo, obras, equipamentos e material permanente e outras despesas correntes. | C41: 385060 | D41: 2026 | E41: 500.0000
A45: 0027 – SERVIÇO DE PROTEÇÃO À CRIANÇA E AO ADOLESCENTE
A46: 2.132 – ASSISTÊNCIA E ACOLHIMENTO DE CRIANÇAS, ADOLESCENTES E JOVENS Órgão Unidade: 0702 E 0712 | B46: Programas voltados a adolescentes infratores. Propor diretrizes de ação governamental voltadas à promoção de políticas públicas de juventude. Acolhimento de jovens por determinação judicial a Instituições. | C46: 938610 | D46: 2026 | E46: 500.0000 660.0000
A50: 2.693 – PROGRAMA CRIANÇA FELIZ – LIVRE Órgão Unidade: 0706 | B50: Programa Primeira Infância Melhor - Criança Feliz. Despesa com Pessoal, material e outras despesas correntes. Locação de espaço físico. | C50: 98300 | D50: 2026 | E50: 500.0000
A54: 2.293 – PROGRAMA CRIANÇA FELIZ – UNIÃO Órgão Unidade: 0712 | B54: Programa Primeira Infância Melhor - Criança Feliz. Despesa com Pessoal, material e outras despesas correntes. Locação de espaço físico.. | C54: 81800 | D54: 2026 | E54: 660.1034
A58: 0029 – ASSISTÊNCIA SOCIAL GERAL
A59: 2.511 – ASSISTÊNCIA SOCIAL Órgão Unidade: 0702 | B59: Despesa com Pessoal, Obrigações Patronais, Diárias, Outras Despesas Correntes, Equipamentos e Material Permanente. Promover a qualificação dos trabalhadores da Assistência Social, através de processos continuados de capacitação e formação, requerendo habilidades e atitudes frente a provisão dos serviços e benefícios socioassistenciais, mais qualificada e comprometida com o atendimento ao cidadão. Renovação da frota de veículos para o transporte. Criação da vigilância socioassistencial e da gerência de proteção social, entre outros. | C59: 517330 | D59: 2026 | E59: 500.0000
A63: 2.580 – LEI DE BENEFÍCIOS EVENTUAIS Órgão Unidade: 0706 | B63: Implantação da Lei de Benefícios Eventuais. Atendimento a pessoas em situação de risco e vulnerabilidade (benefícios eventuais diversos, conforme regulação: auxilio funeral, auxílio natalidade, auxílio alimentação, auxílio transporte, auxílio a vítimas de calamidade e catástrofes). | C63: 2460350 | D63: 2026 | E63: 500.0000
A67: 2.695 – PROGRAMA BOLSA FAMÍLIA/ AUXÍLIO BRASIL – LIVRE Órgão Unidade: 0706 | B67: Despesas com Pessoal, Material de Consumo, Outras Despesas Correntes e Equipamentos e Material Permanente. Conjunto de ações visando a complementação de renda e prestação de serviço comunitário e cooperativas de trabalhos artesanais. | C67: 508060 | D67: 2026 | E67: 500.0000
A71: 2.133 – CENTRO DE REFERÊNCIA DE ASSISTÊNCIA SOCIAL – CRAS Órgão Unidade: 0706 | B71: Manter o Sistema Único de Assistência Social. Despesa com Pessoal, Obrigações Patronais, Diárias, Outras Despesas Correntes, Equipamentos e Material Permanente. Dispor de um local próprio e de qualidade para desenvolvimento de Projetos e Programas Sociais - CRAS. Implantação e Construção do CRAS Quatro Colônias. *** Construção do novo CRAS - Buscar RECURSO da União, Estado, Operação de Crédito ou Financiamento. | C71: 1442000 | D71: 2026 | E71: 500.0000
A75: 2.134 – CENTRO DE REFERÊNCIA ESPECIALIZADO DE ASSISTÊNCIA SOCIAL – CREAS Órgão Unidade: 0706 | B75: Manutenção do Centro de Referência Especializado de Assistência Social - CREAS. Despesa com Pessoal, Obrigações Patronais, Diárias, Outras Despesas Correntes, Equipamentos e Material Permanente. Manutenção do local próprio e de qualidade para desenvolvimento de Projetos e Programas Sociais – CREAS. | C75: 812400 | D75: 2026 | E75: 500.0000
A79: 2.694 PROGRAMA IGD-SUAS – LIVRE Órgão Unidade: 0706 | B79: Despesas com Pessoal Material de Consumo, Outras Despesas Correntes e Equipamentos e Material Permanente. | C79: 7140 | D79: 2026 | E79: 500.0000
A83: 2.135 – ASSISTÊNCIA À MULHER Órgão Unidade: 0709 | B83: Ações de caráter Social desenvolvidas com o objetivo de amparar e proteger à mulher. Manutenção do Conselho Municipal da Mulher e Fundo Municipal. Criação do Setor Municipal de Políticas Públicas para a Mulher. Conveniamento com casa abrigo para mulher em situação de violência. | C83: 72100 | D83: 2026 | E83: 500.0000
A87: 2.578 – FUNDO MUNICIPAL DE ASSISTÊNCIA À MULHER Órgão Unidade: 0709 | B87: Ações de caráter Social desenvolvidas com o objetivo de amparar e proteger à mulher. Despesas com material e outros despesas correntes. Cursos de Capacitação para os conselheiros. | C87: 70 | D87: 2026 | E87: 759.1135
A91: 2.729 – PISO GAÚCHO REGULAR Órgão Unidade: 0711 | B91: Os recursos do cofinanciamento estadual do Piso Gaúcho Regular poderá ser utilizado indistintamente para o aprimoramento da gestão municipal do SUAS, do Cadastro Único e do Programa Bolsa Família, para os serviços tipificados na Resolução CNAS n° 109/2009 e para benefícios eventuais regulamentados pelo Município. | C91: 45940 | D91: 2026 | E91: 661.0000
A95: 2.677 – BLOCO PROTEÇÃO SOCIAL BÁSICA – FEAS Órgão Unidade: 0711 | B95: Despesa com pessoal e outras despesas correntes e de capital. | C95: 9800 | D95: 2026 | E95: 661.1150
A99: 2.678 – BENEFÍCIOS EVENTUAIS – FEAS E PROGRAMA AVANÇAR Órgão Unidade: 0711 | B99: Despesas com material de consumo, subvenções, contribuições e outras despesas correntes. | C99: 10500 | D99: 2026 | E99: 661.1158
A103: 2.679 – BLOCO PROT. SOC. ESPEC. MÉDIA E ALTA COMPLEX. – PROGR. AVANÇAR RS Órgão Unidade: 0711 | B103: Despesa com pessoal e outras despesas correntes e de capital. | C103: 9800 | D103: 2026 | E103: 661.1152
... A139: 2.700 – PROCAD - PROGR. FORTALEC. CADASTRO ÚNICO Órgão Unidade: 0712 | B139: Custear as despesas referente a atualização do Cadastro Único através do programa de fortalecimento emergencial do atendimento do cadastro único no sistema único da assistência social - PROCAD-SUAS. | C139: 1600 | D139: 2026 | E139: 660.1105
A143: 0030 – ASSISTÊNCIA SOCIAL COMUNITÁRIA
A144: 2.137 – MANUTENÇÃO DOS CENTROS COMUNITÁRIOS Órgão Unidade: 0702 | B144: Desenvolvimento de ações, programas e projetos sociais e comunitários. Despesas com Material de Consumo, Outras Despesas Correntes, Obras, Equipamento e Material Permanente. | C144: 75130 | D144: 2026 | E144: 500.0000
A148: 2.136 – ASSISTÊNCIA À COMUNIDADE Órgão Unidade: 0702 | B148: Prestar assistência à População carente do Município dando proteção e acompanhamento necessário, integrando o programa com saúde, educação e cursos de qualificação. Implantação do Aluguel Social. Atendimento a pessoas vítimas de calamidade e catástrofes ou em situação de risco e vulnerabilidade. Conjunto de ações visando a complementação de renda e ações pautadas na economia solidária, na constituição de Cooperativas de Trabalhos Artesanais, direcionadas ao público da Assistência Social, especialmente as pessoas prestadoras de serviço comunitário e em situação de rua. Conveniamento para Prestação de Serviços de Acolhimento e Ressocialização de PSR. Prover acolhimento para PSR sem condições de seguir vivendo no espaço da rua. Despesas com Material de Consumo, Outras Despesas Correntes, Equipamento e Material Permanente. Manutenção Assistência a Carentes. Visa a implantação do auxílio emergencial para condutores de carroça, ou seja, pessoas que se valiam de tração animal para sua sobrevivência. A Lei Municipal n° 5.360, de 06 de dezembro de 2022, institui o programa \municipal de redução gradativa de veículos de tração animal e dá outras providências. | C148: 440100 | D148: 2026 | E148: 500.0000
A152: 1.231 – IMPLANTAÇÃO DE CENTRO COMUNITÁRIOS Órgão Unidade: 0702 | B152: Implantação de Centros comunitários nos bairros. | C152: 20 | D152: 2026 | E152: 500.0000
A156: 0031 - PREVIDÊNCIA SOCIAL A SERVIDOR DO MUNICÍPIO PELO REGIME GERAL
A157: 2.127 – SECRETARIA DE DESENVOLVIMENTO SOCIAL E ASSISTÊNCIA Órgão Unidade: 0701 | B157: Despesas com obrigações patronais do INSS e FGTS. | C157: 95000 | D157: 2026 | E157: 500.0000
...

Sheet SAÚDE
A1: PREFEITURA MUNICIPAL DE CAMPO BOM - RS
A2: LDO 2026
A3: 08 – SECRETARIA MUNICIPAL DE SAÚDE
A5: PROGRAMA | B5: AÇÃO | C5: VALOR/ CUSTO | D5: ANO DE EXECUÇÃO | E5: RECURSO
A6: 0004 – SUPERVISÃO E COORDENAÇÃO ADMINISTRATIVA
A7: 2.537 – SECRETARIA DE SAÚDE Órgão Unidade: 0801 | B7: Despesas de Pessoal, Obrigações Patronais, Diárias, Material de Consumo, Outras Despesas Correntes, Sentenças Judiciais, Atendimento a Demandas Judicias, Equipamentos e Material Permanente. Conjunto de ações desenvolvidas visando participação, coordenação no acompanhamento das execuções financeiras e físicas das Ações de Saúde Pública no Município. Implantação e manutenção do Centro de Aperfeiçoamento Profissional e de Recapacitação Profissional para os Serviços Públicos Municipais. Assessoria técnica hospitalar, assessoria em saúde, assessoria de regulação e auditoria, núcleo municipal de educação em saúde coletiva, conselho municipal de saúde, junta administrativa de recursos por infrações sanitárias e coordenadoria geral. | C7: 2742640 | D7: 2026 | E7: 500.1002
A11: 2.540 – DIRETORIA ADMINISTRATIVA E FINANCEIRA Órgão Unidade: 0801 | B11: Despesas de Pessoal, Obrigações Patronais, Diárias, Material de Consumo, Outras Despesas Correntes, Equipamentos e Material Permanente. Seção de controle de pessoal, finanças, patrimônio e conservação, captação de recursos, controle e fiscalização dos contratos, compras, materiais e medicamentos, informação de saúde, marcação de consultas e exames. | C11: 1345800 | D11: 2026 | E11: 500.1002
A15: 2.541 – DIRETORIA DE ATENÇÃO BÁSICA Órgão Unidade: 0801 | B15: Despesas de Pessoal, Obrigações Patronais, Diárias, Material de Consumo, Outras Despesas Correntes, Equipamentos e Material Permanente. Divisão de vigilância em saúde, atenção básica, atenção às urgências, saúde bucal, assistência farmacêutica. | C15: 1725300 | D15: 2026 | E15: 500.1002
A19: 2.603 – FUNDO MUNICIPAL DE SAÚDE Órgão Unidade: 0801 | B19: Despesa com Material de Consumo, Outras Despesas Correntes. | C19: 9800 | D19: 2026 | E19: 759.1137
A23: 2.386 – AQUISIÇÃO BENS MÓVEIS E IMÓVEIS – LEILÃO Órgão Unidade: 0802 | B23: Aquisição de bens móveis com recurso da venda de sucatas em leilão, e venda de terrenos em Leilão. | C23: 30 | D23: 2026 | E23: 755.0000
A27: 1.178 – REFORMA DO PROTOCOLO - CENTRO ADMINISTRATIVO Órgão Unidade: 0801 | B27: Reforma do saguão do protocolo. | C27: 225000 | D27: 2026 | E27: 500.1002
A31: 0013 – ASSISTÊNCIA FINANCEIRA
A32: 2.298 – AUXÍLIO À ENTIDADES – APAE, LIGA FEMININA E DEMAIS Órgão Unidade: 0802 | B32: Despesa com auxílio a entidades (Subvenções Sociais) e Contribuições. APAE, Liga Feminina de Combate ao Câncer e demais entidades. | C32: 700010 | D32: 2026 | E32: 500.1002
A36: 0031 - PREVIDÊNCIA SOCIAL A SERVIDOR DO MUNICÍPIO PELO REGIME GERAL
A37: 2.537 – SECRETARIA DE SAÚDE Órgão Unidade: 0801 | B37: Despesas com obrigações patronais do INSS e FGTS. | C37: 50000 | D37: 2026 | E37: 500.1002
A41: 2.540 – DIRETORIA ADMINISTRATIVA E FINANCEIRA Órgão Unidade: 0801 | B41: Despesas com obrigações patronais do INSS e FGTS. | C41: 90000 | D41: 2026 | E41: 500.1002
A45: 2.541 – DIRETORIA DE ATENÇÃO BÁSICA Órgão Unidade: 0801 | B45: Despesas com obrigações patronais do INSS e FGTS. | C45: 100000 | D45: 2026 | E45: 500.1002
A49: 2.170 – ATENÇÃO BÁSICA – ASPS Órgão Unidade: 0802 | B49: Despesas com obrigações patronais do INSS e FGTS. | C49: 680000 | D49: 2026 | E49: 500.1002
A53: 2.187 – PROGRAMA SAÚDE DA FAMÍLIA – PSF – UNIÃO Órgão Unidade: 0802 | B53: Despesas com obrigações patronais do INSS e FGTS. | C53: 160000 | D53: 2026 | E53: 600.4500
A57: 2.168 – PROGRAMA SAÚDE DA FAMÍLIA – PSF – ASPS Órgão Unidade: 0802 | B57: Despesas com obrigações patronais do INSS e FGTS. | C57: 220000 | D57: 2026 | E57: 500.1002
A61: 2.185 – PROGRAMA AGENTES COMUNITÁRIOS DE SAÚDE – PACS Órgão Unidade: 0802 | B61: Despesas com obrigações patronais do INSS e FGTS. | C61: 260000 | D61: 2026 | E61: 604.4500
A65: 2.430 – PROGRAMA AGENTES COMUNITÁRIOS DE SAÚDE – PACS Órgão Unidade: 0802 | B65: Despesas com obrigações patronais do INSS e FGTS. | C65: 120000 | D65: 2026 | E65: 500.1002
A69: 2.668 – PIAPS – SOCIODEMOGRÁFICO Órgão Unidade: 0802 | B69: Despesas com obrigações patronais do INSS e FGTS. | C69: 10000 | D69: 2026 | E69: 621.4011
A73: 2.669 – PIAPS – INCENTIVO A APS - EQUIPES Órgão Unidade: 0802 | B73: Despesas com obrigações patronais do INSS e FGTS. | C73: 45000 | D73: 2026 | E73: 621.4090
A77: 2.681 – MANUTENÇÃO DA ATENÇÃO BÁSICA Órgão Unidade: 0802 | B77: Despesas com obrigações patronais do INSS e FGTS. | C77: 100 | D77: 2026 | E77: 600.4500
A81: 2.099 – PRIMEIRA INFÂNCIA MELHOR – PIM Órgão Unidade: 0802 | B81: Despesas com obrigações patronais do INSS e FGTS. | C81: 10 | D81: 2026 | E81: 621.4160
... A145: 2.703 – PROGRAMA INVERNO GAÚCHO Órgão Unidade: 0802 | B145: Despesas com obrigações patronais do INSS e FGTS. | C145: 5000 | D145: 2026 | E145: 621.0000
A149: 0032 - PREVIDÊNCIA SOCIAL A SERVIDORES ATIVOS, INATIVOS E PENSIONISTAS VINCULADOS AO REGIME PRÓPRIO
A150: 2.537 – SECRETARIA DE SAÚDE Órgão Unidade: 0801 | B150: Despesas com obrigações patronais do IPASEM. | C150: 90000 | D150: 2026 | E150: 500.1002
A154: 2.540 – DIRETORIA ADMINISTRATIVA E FINANCEIRA Órgão Unidade: 0801 | B154: Despesas com obrigações patronais do IPASEM. | C154: 145000 | D154: 2026 | E154: 500.1002
A158: 2.541 – DIRETORIA DE ATENÇÃO BÁSICA Órgão Unidade: 0801 | B158: Despesas com obrigações patronais do IPASEM. | C158: 195000 | D158: 2026 | E158: 500.1002
A162: 2.170 – MANUTENÇÃO DA ATENÇÃO BÁSICA – ASPS Órgão Unidade: 0802 | B162: Despesas com obrigações patronais do IPASEM. | C162: 1350000 | D162: 2026 | E162: 500.1002
A166: 2.187 – PROGRAMA SAÚDE DA FAMÍLIA – PSF – UNIÃO Órgão Unidade: 0802 | B166: Despesas com obrigações patronais do IPASEM. | C166: 170000 | D166: 2026 | E166: 600.4500
A170: 2.168 – PROGRAMA SAÚDE DA FAMÍLIA – PSF – ASPS Órgão Unidade: 0802 | B170: Despesas com obrigações patronais do IPASEM. | C170: 1350000 | D170: 2026 | E170: 500.1002
A174: 2.185 – PROGRAMA AGENTES COMUNITÁRIOS DE SAÚDE – PACS Órgão Unidade: 0802 | B174: Despesas com obrigações patronais do IPASEM. | C174: 135000 | D174: 2026 | E174: 604.4500
A178: 2.430 – PROGRAMA AGENTES COMUNITÁRIOS DE SAÚDE – PACS Órgão Unidade: 0802 | B178: Despesas com obrigações patronais do IPASEM. | C178: 150000 | D178: 2026 | E178: 500.1002
A182: 2.668 – PIAPS – SOCIODEMOGRÁFICO Órgão Unidade: 0802 | B182: Despesas com obrigações patronais do IPASEM. | C182: 10000 | D182: 2026 | E182: 621.4011
A186: 2.669 – PIAPS – INCENTIVO A APS - EQUIPES Órgão Unidade: 0802 | B186: Despesas com obrigações patronais do IPASEM. | C186: 160000 | D186: 2026 | E186: 621.4090
A190: 2.681 – MANUTENÇÃO DA ATENÇÃO BÁSICA Órgão Unidade: 0802 | B190: Despesas com obrigações patronais do IPASEM. | C190: 100 | D190: 2026 | E190: 600.4500
A194: 2.099 – PRIMEIRA INFÂNCIA MELHOR – PIM Órgão Unidade: 0802 | B194: Despesas com obrigações patronais do IPASEM. | C194: 10 | D194: 2026 | E194: 621.4160
...

Sheet OBRAS
A1: PREFEITURA MUNICIPAL DE CAMPO BOM - RS
A2: LDO 2026
A3: 09 – SECRETARIA MUNICIPAL DE OBRAS, PLANEJAMENTO E SERVIÇOS URBANOS
A5: PROGRAMA | B5: AÇÃO | C5: VALOR/ CUSTO | D5: ANO DE EXECUÇÃO | E5: RECURSO
A6: 0004 – SUPERVISÃO E COORDENAÇÃO ADMINISTRATIVA
A7: 2.202 – SECRETARIA DE OBRAS Órgão Unidade: 0901 | B7: Despesas com Pessoal Civil e Obrigações Patronais, Material de Consumo, Outras Despesas Correntes, Equipamentos e Materiais Permanente. Relocalização das instalações da Secretaria de Obras. Reequipamento da frota de veículos e máquinas Rodoviárias, prevendo melhoramento nos serviços. Serviço de oficina e borracharia. Seção Administrativa, Conselho Municipal do Plano Diretor, Junta Administrativa de Recursos de Infrações Edifícios e Imobiliárias. | C7: 3211010 | D7: 2026 | E7: 500.0000
A11: 2.522 – DIVISÃO DE SERVIÇOS URBANOS Órgão Unidade: 0902 | B11: Despesas com Pessoal e outras despesas corrente. Seção de Transporte e serviços. | C11: 4930310 | D11: 2026 | E11: 500.0000
A15: 2.523 – DIVISÃO DE ENGENHARIA E OBRAS Órgão Unidade: 0903 | B15: Despesas com Pessoal e outras despesas corrente. Seção de Engenharia, obras e construção civil, fiscalização de obras e contratos. | C15: 565400 | D15: 2026 | E15: 500.0000
A19: 2.232 – DIVISÃO DE PLANEJAMENTO Órgão Unidade: 0904 | B19: Despesas com Pessoal Civil e Obrigações Patronais, Material de Consumo, Outras Despesas Correntes, Equipamentos e Materiais Permanente. Seção de projetos, planejamento urbano e levantamento topográfico. | C19: 1419140 | D19: 2026 | E19: 500.0000
A23: 1.208 – IMPLANT. SEC. OBRAS, ALMOX. CENTRAL, EDUCAÇÃO E SAÚDE Órgão Unidade: 0901 | B23: Implantação da secretaria de obras, almoxarifado central, educação e saúde. | C23: 6000200 | D23: 2026 | E23: 500.0000
A27: 0008 – SERVIÇOS DE TRÂNSITO
A28: 2.565 – FISCALIZAÇÃO, OPERAÇÃO DE TRÂNSITO E SINALIZAÇÃO VIÁRIA Órgão Unidade: 0902 | B28: Projeto de Engenharia de Tráfego. Conjunto de ações que visam ao gerenciamento, à fiscalização, ao controle e à execução de atividades relacionadas ao trânsito. Reequipamento do Setor. Aquisição de Veículos, Motos, Radares, Laser e outros. Defesa Civil, Trânsito, Central de Monitoramento. Manutenção da sinalização viária. Aquisição de Semáforos e sinalização viária, horizontal e vertical. Identificação com placas identificativas. *** Buscar RECURSO da União, Estado, Operação de Crédito ou Financiamento. | C28: 1000320 | D28: 2026 | E28: 500.0000
A32: 0031 - PREVIDÊNCIA SOCIAL A SERVIDOR DO MUNICÍPIO PELO REGIME GERAL
A33: 2.202 – SECRETARIA DE OBRAS Órgão Unidade: 0901 | B33: Despesas com obrigações patronais do INSS e FGTS. | C33: 75000 | D33: 2026 | E33: 500.0000
A37: 2.522 – DIVISÃO DE SERVIÇOS URBANOS Órgão Unidade: 0902 | B37: Despesas com obrigações patronais do INSS e FGTS. | C37: 70000 | D37: 2026 | E37: 500.0000
A41: 2.523 – DIVISÃO DE ENGENHARIA E OBRAS Órgão Unidade: 0903 | B41: Despesas com obrigações patronais do INSS e FGTS. | C41: 15000 | D41: 2026 | E41: 500.0000
A45: 2.232 – DIVISÃO DE PLANEJAMENTO Órgão Unidade: 0904 | B45: Despesas com obrigações patronais do INSS e FGTS. | C45: 125000 | D45: 2026 | E45: 500.0000
A49: 0032 - PREVIDÊNCIA SOCIAL A SERVIDORES ATIVOS, INATIVOS E PENSIONISTAS VINCULADOS AO REGIME PRÓPRIO
A50: 2.202 – SECRETARIA DE OBRAS Órgão Unidade: 0901 | B50: Despesas com obrigações patronais do IPASEM. | C50: 90000 | D50: 2026 | E50: 500.0000
A54: 2.522 – DIVISÃO DE SERVIÇOS URBANOS Órgão Unidade: 0902 | B54: Despesas com obrigações patronais do IPASEM. | C54: 710000 | D54: 2026 | E54: 500.0000
A58: 2.523 – DIVISÃO DE ENGENHARIA E OBRAS Órgão Unidade: 0903 | B58: Despesas com obrigações patronais do IPASEM. | C58: 130000 | D58: 2026 | E58: 500.0000
A62: 2.232 – DIVISÃO DE PLANEJAMENTO Órgão Unidade: 0904 | B62: Despesas com obrigações patronais do IPASEM. | C62: 100000 | D62: 2026 | E62: 500.0000
A66: 0057 – PLANEJAMENTO URBANO
A67: 1.036 – PLANO DIRETOR – PLANEJAMENTO URBANO Órgão Unidade: 0904 | B67: Aquisição de Imóveis visando a aplicação do Plano Diretor do Município. | C67: 100 | D67: 2026 | E67: 500.0000 501.0000
A71: 2.387 – AQUISIÇÃO DE BENS MÓVEIS E IMÓVEIS – LEILÃO Órgão Unidade: 0904 | B71: Aquisição de bens móveis com recurso da venda de sucatas em leilão, e venda de terrenos em Leilão. | C71: 200 | D71: 2026 | E71: 755.0000
A75: 0058 – MELHORAMENTO DA INFRAESTRUTURA URBANA
A76: 2.213 – INFRAESTRUTURA URBANA – FEP Órgão Unidade: 0903 | B76: Aplicação dos recursos recebidos da União, através da cota-parte Fundo Especial Petróleo - FEP. Despesas com Material de Consumo e com Investimentos (Obras e Instalações). | C76: 1700000 | D76: 2026 | E76: 704.1052
A80: 2.725 – INFRAESTRUTURA URBANA – ROYALTIES GÁS Órgão Unidade: 0903 | B80: Aplicação dos recursos recebidos da União, através da cota-parte Fundo Especial Petróleo - FEP. Despesas com Material de Consumo e com Investimentos (Obras e Instalações). | C80: 4570000 | D80: 2026 | E80: 704.1194
A84: 1.223 – PAC - CONTENÇÃO ALAGAMENTO Órgão Unidade: 0903 | B84: Implantação de contenções para evitar alagamentos em diversos pontos da cidade. | C84: 7150000 | D84: 2026 | E84: 749.1205
A88: 2.214 – INFRAESTRUTURA URBANA - RECURSOS MINERAIS Órgão Unidade: 0903 | B88: Aplicação dos recursos recebidos da União, através Exploração de Recursos Minerais com Material de Consumo, Outras Despesas Correntes e em Investimentos (Obras e Instalações).. | C88: 196000 | D88: 2026 | E88: 708.1050
A92: 1.232 – PAVIMENTAÇÃO DE TRECHO DA ESTRADA RURAL Órgão Unidade: 0903 | B92: Pavimentação da estrada Ernesto Schirmer, na Vila Brito, trecho de cerca de 500 metros. *** Buscar RECURSO da União, Estado, Operação de Crédito ou Financiamento. | C92: 100 | D92: 2026 | E92: 500.0000
A96: 0060 – ABASTECIMENTO DE ÁGUA
A97: 2.723 – MANUTENÇÃO DO SISTEMA DE ABASTECIMENTO DE ÁGUA Órgão Unidade: 0902 | B97: Manutenção da rede de abastecimento de água na comunidade com abertura de poços e reservatórios. Serviços de Abastecimento de Água. *** Buscar RECURSO da União, Estado, Operação de Crédito ou Financiamento. | C97: 85020 | D97: 2026 | E97: 500.0000
A101: 1.077 – IMPLANTAÇÃO DO SISTEMA DE ABASTECIMENTO DE ÁGUA Órgão Unidade: 0903 | B101: Ampliar a rede de abastecimento de água na comunidade com abertura de poços e reservatórios. Serviços de Abastecimento de Água. *** Buscar RECURSO da União, Estado, Operação de Crédito ou Financiamento.. | C101: 500 | D101: 2026 | E101: 500.0000
A105: 0061 – SANEAMENTO GERAL
A106: 2.738 – MANUTENÇÃO DA MACRO E MICRODRENAGEM E GALERIAS PLUVIAIS Órgão Unidade: 0902 | B106: Despesas Material de Consumo e Outras Despesas Correntes. Conservar e manter a limpeza de valos e arroios. Buscar melhorar escoamento das águas, diminuindo os alagamentos. Contenção de alagamentos em diversos bairros. *** Buscar RECURSO da União, Estado, Operação de Crédito ou Financiamento. | C106: 140020 | D106: 2026 | E106: 500.0000
A110: 1.083 – IMPLANTAÇÃO DA MACRO E MICRODRENAGEM Órgão Unidade: 0903 | B110: Despesas Material de Consumo e Outras Despesas Correntes. Implantação de módulos pré-moldados para escoamento de pluvial e esgoto. Implantar, conservar e manter a limpeza de valos e arroios. Buscar melhorar escoamento das águas, diminuindo os alagamentos. Implantação de muro de contenção para evitar alagamentos próximo ao Arroio Peri. Implantação de rede de escoamento de águas pluviais, galerias e bueiros nas vias da Cohab Sul, Vila Reichert, Aniger, Vila Velha, Vila Nova-Cooperativa, Rio Branco. Contenção de alagamentos em diversos bairros. *** Buscar RECURSO da União, Estado, Operação de Crédito ou Financiamento. | C110: 500400 | D110: 2026 | E110: 500.0000
A114: 1.191 – IMPLANTAÇÃO DE GALREAIS PLUVIAIS Órgão Unidade: 0903 | B114: Despesas Material de Consumo e Outras Despesas Correntes. Implantação de módulos pré-moldados para escoamento de pluvial e esgoto. Implantar, conservar e manter a limpeza de valos e arroios. Buscar melhorar escoamento das águas, diminuindo os alagamentos. Implantação de galeria pluvial Arroio Peri no Bairro Imigrante Norte. Implantação de rede de escoamento de águas pluviais, galerias e bueiros nas vias da Cohab Sul, Vila Reichert, Aniger, Vila Velha, Vila Nova-Cooperativa, Rio Branco. Contenção de alagamentos em diversos bairros. *** Buscar RECURSO da União, Estado, Operação de Crédito ou Financiamento. | C114: 500400 | D114: 2026 | E114: 500.0000
A118: 0062 – SISTEMAS DE ESGOTO
A119: 2.216 – SISTEMA DE ESGOTO E VALOS Órgão Unidade: 0902 | B119: Despesas Material de Consumo e Outras Despesas Correntes. Investimentos na ampliação e melhorias do Sistema de Esgotamento Sanitário. Limpeza de valos, arroios e córregos. *** Buscar RECURSO da União, Estado, Operação de Crédito ou Financiamento.. | C119: 3000020 | D119: 2026 | E119: 500.0000
...

Sheet CONTINGÊNCIA
A1: PREFEITURA MUNICIPAL DE CAMPO BOM - RS
A2: LDO 2026
A3: 10 – RESERVA DE CONTINGÊNCIA
A5: PROGRAMA | B5: AÇÃO | C5: VALOR/ CUSTO | D5: ANO DE EXECUÇÃO | E5: RECURSO
A6: 9999 – RESERVA DE CONTINGÊNCIA
A7: 2.235 – RESERVA DE CONTINGÊNCIA Órgão Unidade: 1001 | B7: Reserva de Contingência | C7: 5288000 | D7: 2026 | E7: 500.0000
B12: Total Ano 2026 | C12: =SUM(C7) -> 5288000

Sheet IPASEM
A1: PREFEITURA MUNICIPAL DE CAMPO BOM - RS
A2: LDO 2026
A3: 11 – IPASEM - INSTITUTO DE PREVIDÊNCIA E ASSISTÊNCIA DOS SERVIDORES MUNICIPAIS DE CAMPO BOM
A5: PROGRAMA | B5: AÇÃO | C5: VALOR/ CUSTO | D5: ANO DE EXECUÇÃO | E5: RECURSO
A6: 0004 – SUPERVISÃO E COORDENAÇÃO ADMINISTRATIVA
A7: 2.236 – SERVIÇOS ADMINISTRATIVOS DA PREVIDÊNCIA Órgão Unidade: 1101 | B7: Manutenção dos serviços administrativos da previdência. Manter a folha de pagamento do pessoal administrativo, manter os sistemas informatizados, manutenção da segurança da sede, manutenção dos serviços gerais vinculados a previdência, aquisição de materiais dentre eles expediente e limpeza, serviços de assessoria atuarial, jurídica e outros; manutenção do planejamento estratégico do Instituto e aluguel do prédio. Manutenção preventiva e corretiva de veículo. | C7: 2043000 | D7: 2026 | E7: 802.0000
